BEGIN:VCALENDAR
VERSION:2.0
PRODID:-//ChamberMaster//Event Calendar 2.0//EN
METHOD:PUBLISH
X-PUBLISHED-TTL:P3D
REFRESH-INTERVAL:P3D
CALSCALE:GREGORIAN
BEGIN:VEVENT
DTSTART:20180115T230000Z
DTEND:20180116T010000Z
X-MICROSOFT-CDO-ALLDAYEVENT:FALSE
SUMMARY:2018 Business After Hours - 1/15 at McZ's Brew Pub & The Nest Art Studios & Gallery
DESCRIPTION:Join us for BUSINESS AFTER HOURS - Monday\, January 15\, 2018 - 5PM to 7PM\n\n     \n\nCo-Sponsored by: McZ's Brew Pub and The Nest Art Studios & Gallery\n\n\n\nHeld at: 178 N Main Street\, Rosholt\, WI 54473\n\n\n\nA social event designed for and hosted by Business Council members to give business professionals an opportunity to network\, share ideas and have their facility seen by other members.  The member host furnishes refreshments and hors d'oeuvres for the evening.\n\n\n\nOur hosts for the January event will be offering complimentary soups\, salads & flatbreads\, refreshments including both alcoholic and non-alcoholic (wine and beer)\, and door prize giveaways. A 50/50 raffle will also be played.  \n\n \nA different Business Council member hosts Business After Hours every month. \n\n \n\nMembers are welcome to co-host the event with another Business Council member.  Members should call to book the month they are interested in hosting as early as possible.  Sponsorship opportunities are available.\n\n \n\nFor more information contact Karen Schanock at the Portage County Business Council.
X-ALT-DESC;FMTTYPE=text/html:<div><span style="font-size: medium\;"><strong>Join us for BUSINESS AFTER HOURS - Monday\, January 15\, 2018 - 5PM to </strong></span><span style="font-size: medium\;"><strong>7PM<br />\n&#8203\;&nbsp\;&nbsp\;&nbsp\;&nbsp\;</strong></span><br />\n<strong style="font-size: medium\;">Co-Sponsored by: McZ&#39\;s&nbsp\;Brew Pub and The Nest Art Studios &amp\; Gallery<br />\n<br />\nHeld at: 178 N Main Street\, Rosholt\,&nbsp\;WI 54473</strong><br />\n<br />\n<em><span style="font-family:arial\;"><span style="font-size:14px\;"><span font-size:="" lang="EN" mso-ansi-language:="" mso-fareast-font-family:="" new="" style="color: rgb(34\, 34\, 34)\; font-family: " times="">A social event designed for and hosted by Business Council members to give business professionals an opportunity to network\, share ideas and have their facility seen by other members.&nbsp\; The member host furnishes refreshments and hors d&rsquo\;oeuvres for the evening.</span></span></span></em></div>\n\n<div><br />\n<span style="color: rgb(34\, 34\, 34)\; font-family: arial\; font-size: 14px\; font-style: italic\;">Our hosts for the January event will be offering complimentary soups\, salads &amp\; flatbreads\, refreshments including both alcoholic and non-alcoholic (wine and beer)\, and door prize giveaways. A 50/50 raffle will also be played.&nbsp\;&nbsp\;</span><br />\n&nbsp\;\n<p class="MsoNormal" style="margin: 0in 0in 0pt\; line-height: normal\;"><em><span style="font-family:arial\;"><span style="font-size:14px\;"><span font-size:="" lang="EN" mso-ansi-language:="" mso-fareast-font-family:="" new="" style="color: rgb(34\, 34\, 34)\; font-family: " times="">A different Business Council member hosts Business After Hours every month.&nbsp\;</span></span></span></em></p>\n\n<p class="MsoNormal" style="margin: 0in 0in 0pt\; line-height: normal\;"><em><span style="font-family:arial\;"><span style="font-size:14px\;"><span font-size:="" lang="EN" mso-ansi-language:="" mso-fareast-font-family:="" new="" style="color: rgb(34\, 34\, 34)\; font-family: " times="">&nbsp\;</span></span></span></em></p>\n\n<p class="MsoNormal" style="margin: 0in 0in 0pt\; line-height: normal\;"><em><span style="font-family:arial\;"><span style="font-size:14px\;"><span font-size:="" lang="EN" mso-ansi-language:="" mso-fareast-font-family:="" new="" style="color: rgb(34\, 34\, 34)\; font-family: " times="">Members are welcome to co-host the event with another Business Council member.&nbsp\; Members should call to book the month they are interested in hosting as early as possible.&nbsp\; Sponsorship opportunities are available.</span></span></span></em></p>\n\n<p class="MsoNormal" style="margin: 0in 0in 0pt\; line-height: normal\;"><em><span style="font-family:arial\;"><span style="font-size:14px\;"><span font-size:="" lang="EN" mso-ansi-language:="" mso-fareast-font-family:="" new="" style="color: rgb(34\, 34\, 34)\; font-family: " times="">&nbsp\;</span></span></span></em></p>\n\n<p class="MsoNormal" style="margin: 0in 0in 0pt\; line-height: normal\;"><span style="font-family:arial\;"><span style="font-size:14px\;"><em><span font-size:="" lang="EN" mso-ansi-language:="" mso-fareast-font-family:="" new="" style="color: rgb(34\, 34\, 34)\; font-family: " times="">For more information contact Karen Schanock at the Portage County Business Council.</span></em><br />\n<br />\n&nbsp\;&nbsp\;</span></span><br />\n<br />\n&nbsp\;&nbsp\;</p>\n</div>\n
LOCATION:McZ's Brew Pub and The Nest Art Studios & Gallery 178 N Main Street Rosholt\, WI 54473
UID:e.390.6391
SEQUENCE:3
DTSTAMP:20260421T041205Z
URL:https://business.portagecountybiz.com/events/details/2018-business-after-hours-1-15-at-mcz-s-brew-pub-the-nest-art-studios-gallery-6391
END:VEVENT

END:VCALENDAR
