BEGIN:VCALENDAR
VERSION:2.0
PRODID:-//ChamberMaster//Event Calendar 2.0//EN
METHOD:PUBLISH
X-PUBLISHED-TTL:P3D
REFRESH-INTERVAL:P3D
CALSCALE:GREGORIAN
BEGIN:VEVENT
DTSTART:20240508T220000Z
DTEND:20240509T000000Z
X-MICROSOFT-CDO-ALLDAYEVENT:FALSE
SUMMARY:2024 Teen Leadership Graduation
DESCRIPTION:Help us celebrate our 2024 Teen Leadership Development Graduates!\n\nStudents from 7 area school districts that participated in the Teen Leadership Development have committed themselves to a full acadmeic year of leadership development and community building.  We are excited to recognize their accomplishments and celebrate the work they've done.  Please join us!  Families\, employers\, sponsors\, teachers\, alumni\, and the community are welcome to attend.\n\n2024 Teen Leadership Development Class\n\n*  Carson Rice\, Newman Catholic\n\n*  Jocelynne Walker\, SPASH\n\n*  Pam Domres\, SPASH\n\n*  Anna Auer\, Pacelli\n\n*  Julie Milbauer\, Pacelli\n\n*  Lauren Loesl\, Pacellli\n\n*  Nick Grywacz\, Pacelli\n\n*  Haley Senkevitch\, Rosholt\n\n*  Alexis Wiesman\, Amherst\n\n*  Siri Anderson\, Amherst\n\n*  Hailie Portmann\, Amherst\n\n*  Aleah Breed\, Amherst\n\n*  Karson Pavelski\, Almond Bancroft\n\n*  Lillian Pratt\, Almond Bancroft\n\n*  Kerstyn Clark\, Almond Bancroft\n\n*  Brendan Brewer\, Tri-County\n\n*  Allayna Perez\, Tri-County\n\n*  Alexa Raatz\, Tri-County\n\n*  Cayden Weis\, Tri-County
X-ALT-DESC;FMTTYPE=text/html:<strong>Help us celebrate our 2024 Teen Leadership Development Graduates!</strong><br />\nStudents from 7 area school districts that participated in the Teen Leadership Development have committed themselves to a full acadmeic year of leadership development and community building.&nbsp\; We are excited to recognize their accomplishments and celebrate the work they&#39\;ve done.&nbsp\; Please join us!&nbsp\; Families\, employers\, sponsors\, teachers\, alumni\, and the community are welcome to attend.<br />\n2024 Teen Leadership Development Class<br />\n*&nbsp\; Carson Rice\, Newman Catholic<br />\n*&nbsp\; Jocelynne Walker\, SPASH<br />\n*&nbsp\; Pam Domres\, SPASH<br />\n*&nbsp\; Anna Auer\, Pacelli<br />\n*&nbsp\; Julie Milbauer\, Pacelli<br />\n*&nbsp\; Lauren Loesl\, Pacellli<br />\n*&nbsp\; Nick Grywacz\, Pacelli<br />\n*&nbsp\; Haley Senkevitch\, Rosholt<br />\n*&nbsp\; Alexis Wiesman\, Amherst<br />\n*&nbsp\; Siri Anderson\, Amherst<br />\n*&nbsp\; Hailie Portmann\, Amherst<br />\n*&nbsp\; Aleah Breed\, Amherst<br />\n*&nbsp\; Karson Pavelski\, Almond Bancroft<br />\n*&nbsp\; Lillian Pratt\, Almond Bancroft<br />\n*&nbsp\; Kerstyn Clark\, Almond Bancroft<br />\n*&nbsp\; Brendan Brewer\, Tri-County<br />\n*&nbsp\; Allayna Perez\, Tri-County<br />\n*&nbsp\; Alexa Raatz\, Tri-County<br />\n*&nbsp\; Cayden Weis\, Tri-County
LOCATION:Mid-State Technical College\, 1001 Centerpoint Drive\, Stevens Point
UID:e.390.9662
SEQUENCE:3
DTSTAMP:20260422T105540Z
URL:https://business.portagecountybiz.com/events/details/2024-teen-leadership-graduation-9662
END:VEVENT

END:VCALENDAR
