BEGIN:VCALENDAR
VERSION:2.0
PRODID:-//ChamberMaster//Event Calendar 2.0//EN
METHOD:PUBLISH
X-PUBLISHED-TTL:P3D
REFRESH-INTERVAL:P3D
CALSCALE:GREGORIAN
BEGIN:VEVENT
DTSTART;VALUE=DATE:20260601
DTEND;VALUE=DATE:20260602
TRANSP:TRANSPARENT
X-MICROSOFT-CDO-ALLDAYEVENT:TRUE
SUMMARY:2026 Business on the Green - Sponsors
DESCRIPTION:The Portage County Business Council will hold their Ambassadors Club 37th annual golf outing\, Business on the Green to be held at the Stevens Point Country Club and Wisconsin River Golf Club Courses on Monday\, June 1\, 2026. The event will have a 9:00AM shotgun start.\n\nBusiness on the Green provides an opportunity to network while golfing with customers\, employees and other Portage County businesses. This is also a fund raising event sponsored by the Ambassador's Club\, the outreach arm of the Business Council. Proceeds from the event fund new programming for businesses across the county.\n\nThis event is open to Business Council members\, their colleagues and the public. Cost per player at the Stevens Point Country Club is $225.00/golfer. Cost per player at the Wisconsin River Golf Club is $140.00/golfer.\n\n\n\nIf you are interested in becoming a sponsor of the event\, please contact Karen Myers at karenm@portagecountybiz.com or call her at 715-344-1940.\n\n\n\nThere are a variety of sponsorships available including:\nPlatinum Sponsors\n\nGold Level Sponsors \n\nRose Gold Level Sponsors \n\nSilver Runner Level Sponsors\n\nBeverage Cart Sponsors\n\nLunch Sponsors\n\nRaffle Prize Sponsors\n\nPutting Contest Sponsors \n\nHole in One Sponsors \n\nHole Event Sponsors\n\nProduct/Services Sponsors\n\nClick Here FOR ALL THE DETAILS
X-ALT-DESC;FMTTYPE=text/html:<p><span style="font-size: medium"><span style="font-size: smaller"><span>The Portage County Business Council will hold their Ambassadors Club 37th&nbsp\;annual golf outing\, <span style="font-size: small"><strong><span style="color: #339966"><em>Business on the Green</em></span></strong></span></span>&nbsp\;to be held at the&nbsp\;<span>Stevens Point Country Club and Wisconsin River&nbsp\;Golf Club Courses on Monday\, June 1\, 2026.<span style="mso-spacerun: yes">&nbsp\;</span>The event will have a 9:00AM shotgun start.</span></span></span></p>\n\n<p><span style="font-size: small"><span><strong><span style="color: #339966"><i style="mso-bidi-font-style: normal">Business on the Green</i></span></strong>&nbsp\;provides an opportunity to network while golfing with customers\, employees and other Portage County businesses.<span style="mso-spacerun: yes"> </span>This is also a&nbsp\;fund raising event sponsored by the Ambassador&#39\;s Club\, the outreach arm of the Business Council.<span style="mso-spacerun: yes"> </span>Proceeds from the event fund new programming for businesses across the county.</span></span></p>\n\n<p><span style="font-size: small">This event is open to Business Council members\, their colleagues and the public.<span style="mso-spacerun: yes"> </span>Cost per player at the Stevens Point Country Club is $225.00/golfer. Cost per player at the Wisconsin River Golf Club is $140.00/golfer.</span><br />\n<br />\n<span style="font-size: medium"><span style="font-size: smaller">If you are interested in becoming a sponsor of the event\, please contact Karen Myers&nbsp\;at <a href="mailto:kschanoc@portagecountybiz.com">karenm@portagecountybiz.com</a> or call her at 715-344-1940.</span></span><br />\n<br />\n<span style="font-size: medium"><span style="font-size: smaller">There are a variety of sponsorships available including:</span></span></p>\n<span style="font-size: medium"><span style="font-size: smaller">Platinum Sponsors<br />\nGold Level Sponsors&nbsp\;<br />\nRose Gold Level Sponsors&nbsp\;</span></span><br />\nSilver Runner Level Sponsors<br />\n<span style="font-size: medium"><span style="font-size: smaller">Beverage Cart Sponsors</span></span><br />\n<span style="font-size: medium"><span style="font-size: smaller">Lunch Sponsors</span></span><br />\n<span style="font-size: medium"><span style="font-size: smaller">Raffle Prize Sponsors</span></span><br />\n<span style="font-size: medium"><span style="font-size: smaller">Putting Contest Sponsors&nbsp\;</span></span><br />\n<span style="font-size: medium"><span style="font-size: smaller">Hole in One Sponsors&nbsp\;</span></span><br />\n<span style="font-size: medium"><span style="font-size: smaller">Hole Event Sponsors</span></span><br />\n<span style="font-size: medium"><span style="font-size: smaller">Product/Services Sponsors</span></span><br />\n<strong><span style="color:#FF0000\;"><a href="https://chambermaster.blob.core.windows.net/userfiles/UserFiles/chambers/390/File/Golf-Sponsorship-Levels-2026.pdf">Click Here</a><a href="https://chambermaster.blob.core.windows.net/userfiles/UserFiles/chambers/390/Image/Golf-Sponsorship-Levels-2025.pdf"> </a>FOR ALL THE DETAILS</span></strong>
LOCATION:Stevens Point Country Club 1628 Country Club Drive\, Stevens Point\, WI 54481 AND Wisconsin River Golf Club 705 W River Drive\, Stevens Point\, WI 54481
UID:e.390.13045
SEQUENCE:3
DTSTAMP:20260421T092919Z
URL:https://business.portagecountybiz.com/events/details/2026-business-on-the-green-sponsors-13045
END:VEVENT

END:VCALENDAR
