BEGIN:VCALENDAR
VERSION:2.0
PRODID:-//ChamberMaster//Event Calendar 2.0//EN
METHOD:PUBLISH
X-PUBLISHED-TTL:P3D
REFRESH-INTERVAL:P3D
CALSCALE:GREGORIAN
BEGIN:VEVENT
DTSTART:20211015T230000Z
DTEND:20211016T030000Z
X-MICROSOFT-CDO-ALLDAYEVENT:FALSE
SUMMARY:28th Anniversary Bash
DESCRIPTION:Join us in celebrating Ho-Chunk Gaming Nekoosa's 28th anniversary for the following festivities:\n\n6PM-10PM   Free mini performances by Chandelier Circus including juggling\, acrobats\, tight rope walker and fire breathing!\n\n8PM   Fireworks Show
X-ALT-DESC;FMTTYPE=text/html:<span style="font-family:calibri\,sans-serif"><span style="font-size:11.0pt">Join us in celebrating Ho-Chunk Gaming Nekoosa&rsquo\;s 28<sup>th</sup> anniversary for the following festivities:</span></span><br />\n<span style="font-family:calibri\,sans-serif"><span style="font-size:11.0pt">6PM-10PM &ndash\; Free mini performances by Chandelier Circus including juggling\, acrobats\, tight rope walker and fire breathing!</span></span><br />\n<span style="font-family:calibri\,sans-serif"><span style="font-size:11.0pt">8PM &ndash\; Fireworks Show</span></span><br />\n&nbsp\;
LOCATION:Ho-Chunk Gaming Nekoosa
UID:e.390.9042
SEQUENCE:3
DTSTAMP:20260421T113035Z
URL:https://business.portagecountybiz.com/events/details/28th-anniversary-bash-9042
END:VEVENT

END:VCALENDAR
