BEGIN:VCALENDAR
VERSION:2.0
PRODID:-//ChamberMaster//Event Calendar 2.0//EN
METHOD:PUBLISH
X-PUBLISHED-TTL:P3D
REFRESH-INTERVAL:P3D
CALSCALE:GREGORIAN
BEGIN:VEVENT
DTSTART:20210415T000000Z
DTEND:20210415T011500Z
X-MICROSOFT-CDO-ALLDAYEVENT:FALSE
SUMMARY:Art Adventures – Watercolor Art Box
DESCRIPTION:We may be facing new challenges in life\, but art gives us an opportunity to be creative and expressive and can provide a respite during a busy week. In this Art Adventures class\, you will receive a Mid-State Continuing Education Cougar Kit filled with six watercolor paints\, an illustration\, graphite transfer paper\, one brush\, three sheets of watercolor paper\, and instruction sheet. Each month brings a new box and an opportunity to connect live online with your fellow art adventurers\, led by your art tour guide\, who will walk you through the items in your kit and give you pointers on recreating the included illustration while you express your own artistic voice.\n\n\n\nGrab a drink and prepare for good conversation and fun with your fellow artists! This class can be purchased by the month\, for three consecutive months\, or six months. Receive a new Watercolor Cougar Kit monthly! Kits provided by Xanadu Art
X-ALT-DESC;FMTTYPE=text/html:We may be facing new challenges in life\, but art gives us an opportunity to be creative and expressive and can provide a respite during a busy week. In this Art Adventures class\, you will receive a Mid-State Continuing Education Cougar Kit filled with six watercolor paints\, an illustration\, graphite transfer paper\, one brush\, three sheets of watercolor paper\, and instruction sheet. Each month brings a new box and an opportunity to connect live online with your fellow art adventurers\, led by your art tour guide\, who will walk you through the items in your kit and give you pointers on recreating the included illustration while you express your own artistic voice.<br />\n<br />\nGrab a drink and prepare for good conversation and fun with your fellow artists! This class can be purchased by the month\, for three consecutive months\, or six months. Receive a new Watercolor Cougar Kit monthly! Kits provided by Xanadu Art
LOCATION:Online Live
UID:e.390.8948
SEQUENCE:3
DTSTAMP:20260425T125559Z
URL:https://business.portagecountybiz.com/events/details/art-adventures-watercolor-art-box-8948
END:VEVENT

END:VCALENDAR
