BEGIN:VCALENDAR
VERSION:2.0
PRODID:-//ChamberMaster//Event Calendar 2.0//EN
METHOD:PUBLISH
X-PUBLISHED-TTL:P3D
REFRESH-INTERVAL:P3D
CALSCALE:GREGORIAN
BEGIN:VEVENT
DTSTART:20260404T150000Z
DTEND:20260404T153000Z
X-MICROSOFT-CDO-ALLDAYEVENT:FALSE
SUMMARY:Easter Egg Hunt
DESCRIPTION:4 Age Groups: 0-3\, 4-6\, 7-8\, 9+\n\n16 Bike Winners
X-ALT-DESC;FMTTYPE=text/html:4 Age Groups: 0-3\, 4-6\, 7-8\, 9+<br />\n16 Bike Winners
LOCATION:Jensen Community Center 487 N Main St. Amherst
UID:e.390.13040
SEQUENCE:3
DTSTAMP:20260422T175659Z
URL:https://business.portagecountybiz.com/events/details/easter-egg-hunt-13040
END:VEVENT

END:VCALENDAR
