BEGIN:VCALENDAR
VERSION:2.0
PRODID:-//ChamberMaster//Event Calendar 2.0//EN
METHOD:PUBLISH
X-PUBLISHED-TTL:P3D
REFRESH-INTERVAL:P3D
CALSCALE:GREGORIAN
BEGIN:VEVENT
DTSTART:20200218T203000Z
DTEND:20200218T213000Z
X-MICROSOFT-CDO-ALLDAYEVENT:FALSE
SUMMARY:Eat Right for Life Event
DESCRIPTION:Join us for an informational nutrition session\, and learn the five key items you should include in your daily meals. You will also learn healthy eating tips like proper portion sizes and essential ingredients that can help you feel more energized and better than ever. The right foods can make a huge difference in your health - not to mention how well you can live.
X-ALT-DESC;FMTTYPE=text/html:Join us for an informational nutrition session\, and learn the five key items you should include in your daily meals. You will also learn healthy eating tips like proper portion sizes and essential ingredients that can help you feel more energized and better than ever. The right foods can make a huge difference in your health - not to mention how well you can live.
LOCATION:Brookdale Stevens Point Auditorium 5625 Sandpiper Drive Stevens Point\, WI 54482
UID:e.390.8645
SEQUENCE:3
DTSTAMP:20260421T032820Z
URL:https://business.portagecountybiz.com/events/details/eat-right-for-life-event-8645
END:VEVENT

END:VCALENDAR
