BEGIN:VCALENDAR
VERSION:2.0
PRODID:-//ChamberMaster//Event Calendar 2.0//EN
METHOD:PUBLISH
X-PUBLISHED-TTL:P3D
REFRESH-INTERVAL:P3D
CALSCALE:GREGORIAN
BEGIN:VEVENT
DTSTART;VALUE=DATE:20200530
DTEND;VALUE=DATE:20200701
TRANSP:TRANSPARENT
X-MICROSOFT-CDO-ALLDAYEVENT:TRUE
SUMMARY:FREE Sparkling Water Giveaway!
DESCRIPTION:FREE Sparkling Water Giveaway!  Stop by to get one can free\, per customer.  We are selling a 4-pack for only $8.00 (reg. $14.99)    Each can contains 10mg nano'd hemp oil\, a daily serving of wellness!
X-ALT-DESC;FMTTYPE=text/html:FREE Sparkling Water Giveaway!&nbsp\; Stop by to get one can free\, per customer.&nbsp\; We are selling a 4-pack for only $8.00 (reg. $14.99)&nbsp\; &nbsp\; Each can contains 10mg nano&#39\;d hemp oil\, a daily serving of wellness!
LOCATION:1180 Meridian Drive\, Plover\, WI 54401
UID:e.390.8729
SEQUENCE:3
DTSTAMP:20260421T075923Z
URL:https://business.portagecountybiz.com/events/details/free-sparkling-water-giveaway-8729
END:VEVENT

END:VCALENDAR
