BEGIN:VCALENDAR
VERSION:2.0
PRODID:-//ChamberMaster//Event Calendar 2.0//EN
METHOD:PUBLISH
X-PUBLISHED-TTL:P3D
REFRESH-INTERVAL:P3D
CALSCALE:GREGORIAN
BEGIN:VEVENT
DTSTART:20210520T220000Z
DTEND:20210525T010000Z
X-MICROSOFT-CDO-ALLDAYEVENT:FALSE
SUMMARY:Geocaching
DESCRIPTION:Geocaching is a modern-day worldwide scavenger hunt. There are millions of geocaches hidden\, including some in places you have probably visited frequently but had no idea they were there. In this class\, you will learn the basic principles of satellite navigation and use a handheld GPS/GNSS receiver to navigate to locations marked by other users. These secret stashes are sometimes single points and sometimes multiple locations found by solving puzzles. The class includes using internet references and a field trip to find local geocaches. You may bring your own receiver or use one provided for use in the class. The second night of class will be a field experience around the local area to find geocaches.
X-ALT-DESC;FMTTYPE=text/html:Geocaching is a modern-day worldwide scavenger hunt. There are millions of geocaches hidden\, including some in places you have probably visited frequently but had no idea they were there. In this class\, you will learn the basic principles of satellite navigation and use a handheld GPS/GNSS receiver to navigate to locations marked by other users. These secret stashes are sometimes single points and sometimes multiple locations found by solving puzzles. The class includes using internet references and a field trip to find local geocaches. You may bring your own receiver or use one provided for use in the class. The second night of class will be a field experience around the local area to find geocaches.
LOCATION:Online Live/In Person
UID:e.390.8964
SEQUENCE:3
DTSTAMP:20260420T130527Z
URL:https://business.portagecountybiz.com/events/details/geocaching-05-20-2021-8964
END:VEVENT

END:VCALENDAR
