BEGIN:VCALENDAR
VERSION:2.0
PRODID:-//ChamberMaster//Event Calendar 2.0//EN
METHOD:PUBLISH
X-PUBLISHED-TTL:P3D
REFRESH-INTERVAL:P3D
CALSCALE:GREGORIAN
BEGIN:VEVENT
DTSTART:20260425T130000Z
DTEND:20260425T200000Z
X-MICROSOFT-CDO-ALLDAYEVENT:FALSE
SUMMARY:Gun and Sporting Collectibles Show
DESCRIPTION:Join us at our annual Gun & Sporting Collectibles Show - Saturday\, April 25\, 2026 | 8:00 AM 3:00 PM\, at the Bill Cook Chapter IWLA Clubhouse in Stevens Point\, WI! \n\nBrowse a wide selection of guns\, ammunition\, and sporting-related items including fishing tackle\, knives\, archery equipment\, and hunting gear.\n\nOpen to the public with $5 admission. Concessions available.\n\nProceeds go to the Bill Cook Chapter IWLA to support hunter education and conservation efforts.\n\n\n\nThe Bill Cook Chapter is one of the oldest and largest chapters of the Izaak Walton League of America\, formed in 1923. If you are interested in a finding out more about the club or would like to join the chapter\, please join us at our club house the first Wednesday of the month at 7:00 pm. \n\n\n\nIzaak Walton League of America Mission is to conserve\, restore\, and promote the sustainable use and enjoyment of our natural resources\, including soil\, air\, woods\, waters\, and wildlife.
X-ALT-DESC;FMTTYPE=text/html:Join us at our annual <strong>Gun &amp\; Sporting Collectibles Show</strong> -&nbsp\;Saturday\, April 25\, 2026 | 8:00 AM&ndash\;3:00 PM\, at the Bill Cook Chapter IWLA Clubhouse in Stevens Point\, WI!&nbsp\;<br />\nBrowse a wide selection of guns\, ammunition\, and sporting-related items including fishing tackle\, knives\, archery equipment\, and hunting gear.<br />\nOpen to the public with $5 admission. Concessions available.<br />\nProceeds go to the Bill Cook Chapter IWLA to support hunter education and conservation efforts.<br />\n<br />\nThe Bill Cook Chapter is one of the oldest and largest chapters of the Izaak Walton League of America\, formed in 1923. If you are interested in a finding out more about the club or would like to join the chapter\, please join us at our club house the first Wednesday of the month at 7:00 pm.&nbsp\;<br />\n<br />\n<span style="font-size:12px">Izaak Walton League of America Mission is to<span style="color:rgb(10\, 10\, 10)\; font-family:roboto\,arial">&nbsp\;conserve\, restore\, and promote the sustainable use and enjoyment of our natural resources\, including soil\, air\, woods\, waters\, and wildlife.</span></span><br />\n&nbsp\;
LOCATION:5341 Highway 66 Stevens Point\, WI 54482
UID:e.390.11617
SEQUENCE:3
DTSTAMP:20260422T162646Z
URL:https://business.portagecountybiz.com/events/details/gun-and-sporting-collectibles-show-11617
END:VEVENT

END:VCALENDAR
