BEGIN:VCALENDAR
VERSION:2.0
PRODID:-//ChamberMaster//Event Calendar 2.0//EN
METHOD:PUBLISH
X-PUBLISHED-TTL:P3D
REFRESH-INTERVAL:P3D
CALSCALE:GREGORIAN
BEGIN:VEVENT
DTSTART:20200411T140000Z
DTEND:20200411T160000Z
X-MICROSOFT-CDO-ALLDAYEVENT:FALSE
SUMMARY:Growing Vegetables in Straw Bales
DESCRIPTION:Are you interested in a unique form of "container" gardening? Come away from this short course with knowledge about how to grow vegetables in bales of straw\, without soil or weeds! Growing in straw bales is like growing in a pile of compost where roots get bigger and stay warmer. Better roots mean better shoots and bigger fruits. Hands-on demo will offer the opportunity to inspect bales of straw in various stages of preparation or conditioning before planting. \n\n \n\nSaturday\, April 11\n\n9:00   11:00 a.m.\n\nStevens Point Campus\n\nClass #: 26886   Course Fee: $20
X-ALT-DESC;FMTTYPE=text/html:Are you interested in a unique form of &ldquo\;container&rdquo\; gardening? Come away from this short course with knowledge about how to grow vegetables in bales of straw\, without soil&mdash\;or weeds! Growing in straw bales is like growing in a pile of compost where roots get bigger and stay warmer. Better roots mean better shoots and bigger fruits. Hands-on demo will offer&nbsp\;the opportunity to inspect bales of straw in various stages of preparation or conditioning before planting.&nbsp\;<br />\n&nbsp\;<br />\nSaturday\, April 11<br />\n9:00 &ndash\; 11:00 a.m.<br />\nStevens Point Campus<br />\nClass #: 26886 &bull\; Course Fee: $20&nbsp\;
LOCATION:Mid-State Technical College Stevens Point Campus 1001 Centerpoint Drive Stevens Point WI 54481
UID:e.390.7813
SEQUENCE:3
DTSTAMP:20260422T022723Z
URL:https://business.portagecountybiz.com/events/details/knitting-in-the-round-7813
END:VEVENT

END:VCALENDAR
