BEGIN:VCALENDAR
VERSION:2.0
PRODID:-//ChamberMaster//Event Calendar 2.0//EN
METHOD:PUBLISH
X-PUBLISHED-TTL:P3D
REFRESH-INTERVAL:P3D
CALSCALE:GREGORIAN
BEGIN:VEVENT
DTSTART:20190605T220000Z
DTEND:20190620T010000Z
X-MICROSOFT-CDO-ALLDAYEVENT:FALSE
SUMMARY:Landscape Plant Identification and Use
DESCRIPTION:Learn to identify and appreciate woody trees/shrubs and herbaceous plants commonly used in residential and commercial landscapes in Wisconsin. Students will explore key identifying characteristics as well as best uses of different plants in the landscape. This class will be held outside\, so dress for the weather. We will have some field trips to locations outside of the city.\n\n\n\nThis class meets Wednesdays for three weeks..\n\n\n\nClass #41399\n\nCourse Fee: $45.00
X-ALT-DESC;FMTTYPE=text/html:<span style="font-family:calibri\,sans-serif"><span style="font-size:11.0pt">Learn to identify and appreciate woody trees/shrubs and herbaceous plants commonly used in residential and commercial landscapes in Wisconsin. Students will explore key identifying characteristics as well as best uses of different plants in the landscape. This class will be held outside\, so dress for the weather. We will have some field trips to locations outside of the city.</span></span><br />\n<br />\nThis class meets Wednesdays for <strong>three weeks</strong>..<br />\n<br />\nClass #<font face="calibri\, sans-serif"><span style="font-size:14.6667px">41399</span></font><br />\nCourse Fee: <span style="font-family:calibri\,sans-serif"><span style="font-size:11.0pt">$45.00</span></span>
LOCATION:Mid-State Technical College 1001 Centerpoint Drive Stevens Point WI 54481
UID:e.390.8274
SEQUENCE:3
DTSTAMP:20260424T090117Z
URL:https://business.portagecountybiz.com/events/details/landscape-plant-identification-and-use-8274
END:VEVENT

END:VCALENDAR
