BEGIN:VCALENDAR
VERSION:2.0
PRODID:-//ChamberMaster//Event Calendar 2.0//EN
METHOD:PUBLISH
X-PUBLISHED-TTL:P3D
REFRESH-INTERVAL:P3D
CALSCALE:GREGORIAN
BEGIN:VEVENT
DTSTART:20260517T000000Z
DTEND:20260517T030000Z
X-MICROSOFT-CDO-ALLDAYEVENT:FALSE
SUMMARY:Live Music: HOMETOWN THROWDOWN
DESCRIPTION:Join us for a stacked night of heavy music featuring:\n\nTHEREAFTER\n\nElk Startled by Thunder\n\nDamaged Animal\n\nIncoherent Screaming\n\nAll Ages | $10 Cover | Doors: 6 PM Music: 7 PM | Free Pizza w/ Admission\n\nBring your friends\, show up early\, and be ready to move!
X-ALT-DESC;FMTTYPE=text/html:<div>Join us for a stacked night of heavy music featuring:</div>\n\n<div>THEREAFTER<br />\nElk Startled by Thunder<br />\nDamaged Animal<br />\nIncoherent Screaming</div>\n\n<div>All Ages | $10 Cover | Doors: 6 PM Music: 7 PM | Free Pizza w/ Admission</div>\n\n<div>Bring your friends\, show up early\, and be ready to move!</div>\n
LOCATION:1136 Main St\, Stevens Point\, WI 54481
UID:e.390.13074
SEQUENCE:3
DTSTAMP:20260421T104435Z
URL:https://business.portagecountybiz.com/events/details/live-music-hometown-throwdown-13074
END:VEVENT

END:VCALENDAR
