BEGIN:VCALENDAR
VERSION:2.0
PRODID:-//ChamberMaster//Event Calendar 2.0//EN
METHOD:PUBLISH
X-PUBLISHED-TTL:P3D
REFRESH-INTERVAL:P3D
CALSCALE:GREGORIAN
BEGIN:VEVENT
DTSTART:20260520T230000Z
DTEND:20260521T013000Z
X-MICROSOFT-CDO-ALLDAYEVENT:FALSE
SUMMARY:May Club Social - Campfire Foods
DESCRIPTION:Join the Bill Cook Chapter IWLA for a Campfire Social! ??\n\nWe're doing it potluck style   bring something to cook over the fire or your favorite food to share and enjoy around the campfire.\n\nWednesday\, May 20th\, 2025 at 6pm\n\nBring a Chair\, kick back\, relax\, and enjoy great food and even better company.\n\nOpen to the public   we'd love to see you there!
X-ALT-DESC;FMTTYPE=text/html:<span style="color:#FFFFFF"><strong><span style="background-color:#008000">Join the Bill Cook Chapter IWLA for a Campfire Social!</span></strong></span> ??<br />\nWe&rsquo\;re doing it potluck style &mdash\; bring something to cook over the fire or your favorite food to share and enjoy around the campfire.<br />\n<span style="color:#FFFFFF"><span style="background-color:#008000">Wednesday\, May 20th\, 2025 at 6pm</span></span><br />\nBring a Chair\, kick back\, relax\, and enjoy great food and even better company.<br />\nOpen to the public &mdash\; we&rsquo\;d love to see you there!
LOCATION:Bill Cook Chapter IWLA 5341 Hwy 66 Stevens Point\, WI 54482
UID:e.390.13075
SEQUENCE:3
DTSTAMP:20260422T173608Z
URL:https://business.portagecountybiz.com/events/details/may-club-social-campfire-foods-13075
END:VEVENT

END:VCALENDAR
