BEGIN:VCALENDAR
VERSION:2.0
PRODID:-//ChamberMaster//Event Calendar 2.0//EN
METHOD:PUBLISH
X-PUBLISHED-TTL:P3D
REFRESH-INTERVAL:P3D
CALSCALE:GREGORIAN
BEGIN:VEVENT
DTSTART:20260509T140000Z
DTEND:20260509T190000Z
X-MICROSOFT-CDO-ALLDAYEVENT:FALSE
SUMMARY:Mothers & Others Tea Party
DESCRIPTION:It's that time of year again! Tea Party time! This year we are celebrating on Mother's Day weekend\, but you don't have to bring just moms. Bring your fathers\, grandparents\, caregivers\, and others to sip tea\, enjoy light sandwiches and finger foods\, explore the museum\, and visit with some very special fairy godparents. \n\nWe are hosting two sessions to allow for as many people to attend as possible:\n\nSession One\n\n\n	\n	9-11a\n	\n	\n	Tea and story time at 10a\n	\n\n\nSession Two\n\n\n	\n	12-2p\n	\n	\n	Tea and story time at 1p\n	\n\n\nSessions are limited to 100 attendees max.\n\nPlease note that we will not be open our normal Saturday operating hours for this event.
X-ALT-DESC;FMTTYPE=text/html:<p>It&#39\;s that time of year again! Tea Party time! This year we are celebrating on Mother&#39\;s Day weekend\, but you don&#39\;t have to bring<em> just</em>&nbsp\;moms. Bring your fathers\, grandparents\, caregivers\, and others to sip tea\, enjoy light sandwiches and finger foods\, explore the museum\, and visit with some very special fairy godparents.&nbsp\;</p>\n\n<p>We are hosting two sessions to allow for as many people to attend as possible:</p>\n\n<p><u>Session One</u></p>\n\n<ul>\n	<li>\n	<p>9-11a</p>\n	</li>\n	<li>\n	<p>Tea and story time at 10a</p>\n	</li>\n</ul>\n\n<p><u>Session Two</u></p>\n\n<ul>\n	<li>\n	<p>12-2p</p>\n	</li>\n	<li>\n	<p>Tea and story time at 1p</p>\n	</li>\n</ul>\n\n<p>Sessions are limited to 100 attendees max.</p>\n\n<p><strong><u>Please note that we will not be open our normal Saturday operating hours for this event.&nbsp\;</u></strong></p>\n
LOCATION:Central Wisconsin Children's Museum 1100 Main Street\, Suite 200 Stevens Point\, WI 54481
UID:e.390.13076
SEQUENCE:3
DTSTAMP:20260420T223324Z
URL:https://business.portagecountybiz.com/events/details/mothers-others-tea-party-13076
END:VEVENT

END:VCALENDAR
