BEGIN:VCALENDAR
VERSION:2.0
PRODID:-//ChamberMaster//Event Calendar 2.0//EN
METHOD:PUBLISH
X-PUBLISHED-TTL:P3D
REFRESH-INTERVAL:P3D
CALSCALE:GREGORIAN
BEGIN:VEVENT
DTSTART:20200707T193000Z
DTEND:20200707T203000Z
X-MICROSOFT-CDO-ALLDAYEVENT:FALSE
SUMMARY:Stevens Point Area Public School District Reopening Plan Webinar
DESCRIPTION:The Portage County Business Council is partnering with the Stevens Point Area Public School District to share the District's fall school reopening plan. The School Board recently approved the framework and the Council and District would like to share it with PCBC members and the community.\n\n\n\n Education is a key component of our local economy and as partners and employers\, the District wants to ensure you have the information you need relative to how the operation of schools in this climate may affect your organizations' own operational planning and employee relations. \n\n\n\nPlease join District leaders for an Overview of the Framework for Reopening Schools including time for Q&A.\n\n\n\nPresenters: Craig Gerlach\, Superintendent and Cory Hirsbrunner\, Director of Elementary Education\n\nHost: Todd Kuckkahn\n\nQ&A through Zoom chat\n\n \nJoin Zoom Meeting\n\nhttps://zoom.us/j/93444845280\n\nMeeting ID: 934 4484 5280\n\nPassword: 974650\n\nOne tap mobile\n\n+13017158592\,\,93444845280#\,\,\,\,0#\,\,974650# US (Germantown)\n\n+13126266799\,\,93444845280#\,\,\,\,0#\,\,974650# US (Chicago)\n\nDial by your location\n\n        +1 301 715 8592 US (Germantown)\n\n        +1 312 626 6799 US (Chicago)\n\n        +1 929 205 6099 US (New York)\n\n        +1 253 215 8782 US (Tacoma)\n\n        +1 346 248 7799 US (Houston)\n\n        +1 669 900 6833 US (San Jose)\n\nMeeting ID: 934 4484 5280\n\nPassword: 974650\n\nFind your local number: https://zoom.us/u/aerFjrUbUe
X-ALT-DESC;FMTTYPE=text/html:The Portage County Business Council is partnering with the Stevens Point Area Public School District to share the District&rsquo\;s fall school reopening plan. The School Board recently approved the framework and the Council and District would like to share it with PCBC members and the community.<br />\n<br />\n&nbsp\;Education is a key component of our local economy and as partners and employers\, the District wants to ensure you have the information&nbsp\;you need relative to how the operation of schools in this climate may affect your&nbsp\;organizations&#39\; own operational planning and employee relations.&nbsp\;<br />\n<br />\nPlease join District leaders for an <a href="https://go.boarddocs.com/wi/wisp/Board.nsf/files/BQPQUG6696D9/$file/Final%20Reopening%20Schools%20%20Preparedness%20Plan%202020-21.pdf" target="_blank">Overview of the Framework for Reopening Schools</a>&nbsp\;including time for Q&amp\;A.<br />\n<br />\n<em>Presenters: Craig Gerlach\, Superintendent and Cory Hirsbrunner\, Director of Elementary Education</em><br />\n<em>Host: Todd Kuckkahn</em><br />\n<em>Q&amp\;A through Zoom</em> chat<br />\n&nbsp\;\n<p>Join Zoom Meeting<br />\n<a href="https://zoom.us/j/93444845280">https://zoom.us/j/93444845280</a><o:p></o:p></p>\n\n<p>Meeting ID: 934 4484 5280<br />\nPassword: 974650<br />\nOne tap mobile<br />\n+13017158592\,\,93444845280#\,\,\,\,0#\,\,974650# US (Germantown)<br />\n+13126266799\,\,93444845280#\,\,\,\,0#\,\,974650# US (Chicago)<o:p></o:p></p>\n\n<p>Dial by your location<br />\n&nbsp\;&nbsp\;&nbsp\;&nbsp\;&nbsp\;&nbsp\;&nbsp\; +1 301 715 8592 US (Germantown)<br />\n&nbsp\;&nbsp\;&nbsp\;&nbsp\;&nbsp\;&nbsp\;&nbsp\; +1 312 626 6799 US (Chicago)<br />\n&nbsp\;&nbsp\;&nbsp\;&nbsp\;&nbsp\;&nbsp\;&nbsp\; +1 929 205 6099 US (New York)<br />\n&nbsp\;&nbsp\;&nbsp\;&nbsp\;&nbsp\;&nbsp\;&nbsp\; +1 253 215 8782 US (Tacoma)<br />\n&nbsp\;&nbsp\;&nbsp\;&nbsp\;&nbsp\;&nbsp\;&nbsp\; +1 346 248 7799 US (Houston)<br />\n&nbsp\;&nbsp\;&nbsp\;&nbsp\;&nbsp\;&nbsp\;&nbsp\; +1 669 900 6833 US (San Jose)<br />\nMeeting ID: 934 4484 5280<br />\nPassword: 974650<br />\nFind your local number:&nbsp\;<a href="https://zoom.us/u/aerFjrUbUe">https://zoom.us/u/aerFjrUbUe</a></p>\n<br />\n&nbsp\;
LOCATION:Zoom (hosted by PCBC)
UID:e.390.8785
SEQUENCE:3
DTSTAMP:20260423T142000Z
URL:https://business.portagecountybiz.com/events/details/stevens-point-area-public-school-district-reopening-plan-webinar-8785
END:VEVENT

END:VCALENDAR
