BEGIN:VCALENDAR
VERSION:2.0
PRODID:-//ChamberMaster//Event Calendar 2.0//EN
METHOD:PUBLISH
X-PUBLISHED-TTL:P3D
REFRESH-INTERVAL:P3D
CALSCALE:GREGORIAN
BEGIN:VEVENT
DTSTART:20250304T144500Z
DTEND:20250304T163000Z
X-MICROSOFT-CDO-ALLDAYEVENT:FALSE
SUMMARY:Tot Time Week 1 Carrots
DESCRIPTION:Dig into the world of agriculture with our 4-week Tot Time program! Each week families will enjoy open exploration in our Seedlings Gallery\, facilitator-led activities throughout the Food + Farm Exploration Center and a delicious snack pertaining to the monthly theme. Space is limited so register today!\n\nMarch Theme: CARROTS!\n\nDetails\n\n\n	\n	Dates: March 4th\, 11th\, 18th\, 25th (Tuesdays)\n	\n	\n	Time: 8:45-10:30+ AM\n\n	\n		\n		8:45 AM: Arrive and check-in\n		\n		\n		9:00 AM: Paid program starts\n		\n		\n		10:00 AM: Open exploration included for the day\n		\n	\n	\n	\n	Who: Children 3\, 4\, or 5 are invited to join\n\n	\n		\n		Adults must accompany their toddler at all times\n		\n	\n	\n\n\nCost\n\n\n	\n	Program Fee: $35 for 4 weeks\n\n	\n		\n		Fee covers the cost of 1 child and parent for all 4 sessions (no general admission ticket required)\n		\n		\n		Separate registration required for each child attending\n		\n		\n		Members save 25%\n		\n		\n		Fee includes admission for the day so you can stay and play!\n		\n	\n	\n	\n	Registration closes February 28th at 4pm\n	\n\n\n\n\n\n\n\nRegister here
X-ALT-DESC;FMTTYPE=text/html:<div>\n<div>\n<div>\n<p>Dig into the world of agriculture with our 4-week Tot Time program! Each week families will enjoy open exploration in our Seedlings Gallery\, facilitator-led activities throughout the Food + Farm Exploration Center and a delicious snack pertaining to the monthly theme. Space is limited so <a href="https://purchase.explorefoodandfarm.org/orders/564/tickets?eventId=654d2e6466d9df2ced61def1&amp\;cdEventIds=654d2e6466d9df2ced61def1&amp\;date=2025-03-04T09:00:00-06:00" style="background-image: unset\; background-position: unset\; background-size: unset\; background-repeat: unset\; background-attachment: initial\; background-origin: initial\; background-clip: initial\; background-color: initial\; cursor: pointer\; color: var(--paragraphLinkColor)\; text-decoration-thickness: 1px\; text-decoration-style: solid\; text-decoration-color: currentcolor\; white-space: initial\; text-underline-offset: 0.2em\; text-decoration-skip-ink: auto\; overflow-wrap: break-word\;" target="_blank">register today</a>!</p>\n\n<h4><span style="color:hsl(var(--darkAccent-hsl))">March Theme: CARROTS!</span></h4>\n\n<h4>Details</h4>\n\n<ul>\n	<li>\n	<p><strong>Dates:</strong> March 4th\, 11th\, 18th\, 25th (Tuesdays)</p>\n	</li>\n	<li>\n	<p><strong>Time:</strong> 8:45-10:30+ AM</p>\n\n	<ul>\n		<li>\n		<p>8:45 AM: Arrive and check-in</p>\n		</li>\n		<li>\n		<p>9:00 AM: Paid program starts</p>\n		</li>\n		<li>\n		<p>10:00 AM: Open exploration included for the day</p>\n		</li>\n	</ul>\n	</li>\n	<li>\n	<p><strong>Who:</strong> Children 3\, 4\, or 5 are invited to join</p>\n\n	<ul>\n		<li>\n		<p><em>Adults must accompany their toddler at all times</em></p>\n		</li>\n	</ul>\n	</li>\n</ul>\n\n<h4>Cost</h4>\n\n<ul>\n	<li>\n	<p><strong>Program Fee:</strong> $35 for 4 weeks</p>\n\n	<ul>\n		<li>\n		<p>Fee covers the cost of 1 child and parent for all 4 sessions (no general admission ticket required)</p>\n		</li>\n		<li>\n		<p>Separate registration required for each child attending</p>\n		</li>\n		<li>\n		<p><strong>Members save 25%</strong></p>\n		</li>\n		<li>\n		<p>Fee includes admission for the day so you can stay and play!</p>\n		</li>\n	</ul>\n	</li>\n	<li>\n	<p>Registration closes February 28th at 4pm</p>\n	</li>\n</ul>\n</div>\n</div>\n</div>\n\n<div>\n<div>\n<div style="text-align:center"><a class="sqs-block-button-element--medium sqs-button-element--primary sqs-block-button-element" href="https://purchase.explorefoodandfarm.org/orders/564/tickets?eventId=654d2e6466d9df2ced61def1&amp\;cdEventIds=654d2e6466d9df2ced61def1&amp\;date=2025-03-04T09:00:00-06:00" style="background-image: initial\; background-position: 0px 0px\; background-size: initial\; background-repeat: initial\; background-attachment: initial\; background-origin: initial\; background-clip: initial\; background-color: var(--primaryButtonBackgroundColor)\; cursor: pointer\; color: var(--primaryButtonTextColor)\; text-decoration-line: none\; display: inline-block\; -webkit-font-smoothing: antialiased\; line-height: normal\; padding: var(--primary-button-padding-y) var(--primary-button-padding-x)\; border-color: var(--primaryButtonTextColor)\; border-radius: 300px\; transition: opacity 0.1s linear\; backface-visibility: hidden\; font-family: var(--primary-button-font-font-family)\; font-style: var(--primary-button-font-font-style)\; font-weight: var(--primary-button-font-font-weight)\; letter-spacing: var(--primary-button-font-letter-spacing)\; text-transform: var(--primary-button-font-text-transform)\; font-size: calc(var(--primary-button-font-font-size-value) * 1rem)\; border-width: var(--primary-button-stroke)\; border-style: solid\;" target="_blank">Register here</a></div>\n</div>\n</div>\n
LOCATION:Food + Farm Exploration Center3400 Innovation Drive Plover\, WI 54467USA (map)
UID:e.390.11230
SEQUENCE:3
DTSTAMP:20260421T153635Z
URL:https://business.portagecountybiz.com/events/details/tot-time-week-1-carrots-11230
END:VEVENT

END:VCALENDAR
