BEGIN:VCALENDAR
VERSION:2.0
PRODID:-//ChamberMaster//Event Calendar 2.0//EN
METHOD:PUBLISH
X-PUBLISHED-TTL:P3D
REFRESH-INTERVAL:P3D
CALSCALE:GREGORIAN
BEGIN:VEVENT
DTSTART:20210408T233000Z
DTEND:20210409T003000Z
X-MICROSOFT-CDO-ALLDAYEVENT:FALSE
SUMMARY:Wine Glass Wraps
DESCRIPTION:Join us in learning the art of basic wire wrapping\n\nand how to make this fantastic wine glass wrap. We\n\nwrap with a 24-gauge craft wire and use a variety\n\nof Czech glass embellishment beads and size 11\n\nJapanese seed beads. When we are done\, you wrap\n\nit around the stem of your favorite wine glass for a\n\nlittle extra fanciness. Student-provided tools needed\n\nto complete this class are a round nose pliers\, chain\n\nnose pliers and a wire cutter.
X-ALT-DESC;FMTTYPE=text/html:Join us in learning the art of basic wire wrapping<br />\nand how to make this fantastic wine glass wrap. We<br />\nwrap with a 24-gauge craft wire and use a variety<br />\nof Czech glass embellishment beads and size 11<br />\nJapanese seed beads. When we are done\, you wrap<br />\nit around the stem of your favorite wine glass for a<br />\nlittle extra fanciness. Student-provided tools needed<br />\nto complete this class are a round nose pliers\, chain<br />\nnose pliers and a wire cutter.
LOCATION:Online Live
UID:e.390.8945
SEQUENCE:3
DTSTAMP:20260421T223445Z
URL:https://business.portagecountybiz.com/events/details/wine-glass-wraps-8945
END:VEVENT

END:VCALENDAR
